BEGIN:VCALENDAR
PRODID:-//PUBBLE//agenda//NL
VERSION:2.0
METHOD:PUBLISH
BEGIN:VEVENT
DTSTART:20260509T080000Z
DTEND:20260509T140000Z
DTSTAMP:20260423T031937Z
UID:912e88b6-11f0-4bf8-a9c2-42b3dd031029
CREATED:20260423T031937Z
NAME:Open Molendag - De Traanroeier texelagenda.nl
X-WR-CALNAME:Open Molendag - De Traanroeier
X-ALT-DESC;FMTTYPE=text/html:<a href='/agenda/2026/5/9/open-molendag-de-traanroeier-335639'>/agenda/2026/5/9/open-molendag-de-traanroeier-335639</a> || <p>Molen De Traanroeier is vandaag, los van het museum, gratis toegankelijk van 10-16 uur. Het is namelijk Open Molendag! Je vindt de ingang aan de Barentszstraat. De molenaars zijn aanwezig en leggen je graag van alles uit. Probeer ook zelf graan te malen met de handmaler. Vanaf ongeveer 11 uur zijn de eerste pannenkoeken en wafels gaar. Recht uit de pan, heerlijk! Een beker warme chocomel maakt het feest compleet. Kom jij ook?</p><p>Dit evenement is rolstoelvriendelijk.</p><p>Dit evenement is huisdiervriendelijk.</p>
DESCRIPTION:<a href='/agenda/2026/5/9/open-molendag-de-traanroeier-335639'>/agenda/2026/5/9/open-molendag-de-traanroeier-335639</a> || <p>Molen De Traanroeier is vandaag, los van het museum, gratis toegankelijk van 10-16 uur. Het is namelijk Open Molendag! Je vindt de ingang aan de Barentszstraat. De molenaars zijn aanwezig en leggen je graag van alles uit. Probeer ook zelf graan te malen met de handmaler. Vanaf ongeveer 11 uur zijn de eerste pannenkoeken en wafels gaar. Recht uit de pan, heerlijk! Een beker warme chocomel maakt het feest compleet. Kom jij ook?</p><p>Dit evenement is rolstoelvriendelijk.</p><p>Dit evenement is huisdiervriendelijk.</p>
LAST-MODIFIED:20260423T031937Z
LOCATION: Molen De Traanroeier | Heemskerckstraat 9 Oudeschild
SEQUENCE:0
STATUS:CONFIRMED
SUMMARY:Open Molendag - De Traanroeier
TRANSP:OPAQUE
END:VEVENT
END:VCALENDAR
