BEGIN:VCALENDAR
PRODID:-//PUBBLE//agenda//NL
VERSION:2.0
METHOD:PUBLISH
BEGIN:VEVENT
DTSTART:20260509T080000Z
DTEND:20260509T140000Z
DTSTAMP:20260423T031748Z
UID:85da8f18-e5d5-4c60-bfc2-14c97c153ca9
CREATED:20260423T031748Z
NAME:Open Molendag - Molen Het Noorden texelagenda.nl
X-WR-CALNAME:Open Molendag - Molen Het Noorden
X-ALT-DESC;FMTTYPE=text/html:<a href='/agenda/2026/5/9/open-molendag-molen-het-noorden-335640'>/agenda/2026/5/9/open-molendag-molen-het-noorden-335640</a> || <p>Vanwege Open Molendag is Molen Het Noorden vandaag open voor publiek. Maak gebruik van deze gelegenheid om eens een kijkje te nemen in deze indrukwekkende poldermolen. Het is een zogenaamde grondzeiler: de enorme wieken komen tot aan de grond. Ze drijven de schroef aan waarmee het water wordt opgepompt. Ook heel bijzonder: de molenaar woonde vroeger in de molen. De ruimtes zijn nog steeds voor bewoning ingericht. Gratis toegang van 10-16 uur.&nbsp;</p><p>Dit evenement is niet rolstoelvriendelijk.</p><p>Dit evenement is niet huisdiervriendelijk.</p>
DESCRIPTION:<a href='/agenda/2026/5/9/open-molendag-molen-het-noorden-335640'>/agenda/2026/5/9/open-molendag-molen-het-noorden-335640</a> || <p>Vanwege Open Molendag is Molen Het Noorden vandaag open voor publiek. Maak gebruik van deze gelegenheid om eens een kijkje te nemen in deze indrukwekkende poldermolen. Het is een zogenaamde grondzeiler: de enorme wieken komen tot aan de grond. Ze drijven de schroef aan waarmee het water wordt opgepompt. Ook heel bijzonder: de molenaar woonde vroeger in de molen. De ruimtes zijn nog steeds voor bewoning ingericht. Gratis toegang van 10-16 uur.&nbsp;</p><p>Dit evenement is niet rolstoelvriendelijk.</p><p>Dit evenement is niet huisdiervriendelijk.</p>
LAST-MODIFIED:20260423T031748Z
LOCATION: Molen Het Noorden | Stuifweg 4 Oosterend
SEQUENCE:0
STATUS:CONFIRMED
SUMMARY:Open Molendag - Molen Het Noorden
TRANSP:OPAQUE
END:VEVENT
END:VCALENDAR
