BEGIN:VCALENDAR
PRODID:-//PUBBLE//agenda//NL
VERSION:2.0
METHOD:PUBLISH
BEGIN:VEVENT
DTSTART:20260401T070000Z
DTEND:20260930T145200Z
DTSTAMP:20260424T000149Z
UID:64c32b5c-45e6-4e04-b2b8-5eb9cf7525b1
CREATED:20260424T000149Z
NAME:Kunstroute Den Hoorn texelagenda.nl
X-WR-CALNAME:Kunstroute Den Hoorn
X-ALT-DESC;FMTTYPE=text/html:<a href='/agenda/2026/4/1/kunstroute-den-hoorn-335662'>/agenda/2026/4/1/kunstroute-den-hoorn-335662</a> || <p>In 2026 organiseert de stichting Texel CultuurEiland weer “Kunst op Texel, vier bijzondere kunstroutes over het eiland”. Het kunstzinnig aanbod op het eiland is de afgelopen decennia enorm gegroeid in zowel omvang als diversiteit. Juist die verscheidenheid van galerieën, expositieruimten, ateliers bij kunstenaars thuis en bijzondere locaties maakt de kunstroutes over het eiland zo aantrekkelijk en overzichtelijk voor zowel toeristen als Texelaars. En ook zeker ook goed te befietsen! &nbsp;</p><p>Er zijn dit jaar vier kunstroutes:&nbsp;</p><p>de route Den Burg op de woensdag; de route Den Hoorn op de donderdag; de route Oudeschild/Hoge Berg op zaterdag; de route Oosterend, Oost, Eierland en het Noorden op de zondag.&nbsp;</p><p>Kunstenaars op de route-kaartjes zijn geopend op de vaste routedag, gedurende de periode van april t/m september. De periode dat zij open zijn varieert echter van minimaal een twee maanden, &nbsp;tot maximaal 6 maanden (of zelfs het gehele jaar).&nbsp;</p><p>Alle informatie over routes en deelnemende kunstenaars of -locaties is opgenomen in de fraai vormgegeven gids “Kunst op Texel 2025”. Deze is o.a. verkrijgbaar bij VVV Texels en te downloaden via de website texelcultuureiland.nl.&nbsp;</p><p>Dit evenement is niet rolstoelvriendelijk.</p><p>Dit evenement is niet huisdiervriendelijk.</p>
DESCRIPTION:<a href='/agenda/2026/4/1/kunstroute-den-hoorn-335662'>/agenda/2026/4/1/kunstroute-den-hoorn-335662</a> || <p>In 2026 organiseert de stichting Texel CultuurEiland weer “Kunst op Texel, vier bijzondere kunstroutes over het eiland”. Het kunstzinnig aanbod op het eiland is de afgelopen decennia enorm gegroeid in zowel omvang als diversiteit. Juist die verscheidenheid van galerieën, expositieruimten, ateliers bij kunstenaars thuis en bijzondere locaties maakt de kunstroutes over het eiland zo aantrekkelijk en overzichtelijk voor zowel toeristen als Texelaars. En ook zeker ook goed te befietsen! &nbsp;</p><p>Er zijn dit jaar vier kunstroutes:&nbsp;</p><p>de route Den Burg op de woensdag; de route Den Hoorn op de donderdag; de route Oudeschild/Hoge Berg op zaterdag; de route Oosterend, Oost, Eierland en het Noorden op de zondag.&nbsp;</p><p>Kunstenaars op de route-kaartjes zijn geopend op de vaste routedag, gedurende de periode van april t/m september. De periode dat zij open zijn varieert echter van minimaal een twee maanden, &nbsp;tot maximaal 6 maanden (of zelfs het gehele jaar).&nbsp;</p><p>Alle informatie over routes en deelnemende kunstenaars of -locaties is opgenomen in de fraai vormgegeven gids “Kunst op Texel 2025”. Deze is o.a. verkrijgbaar bij VVV Texels en te downloaden via de website texelcultuureiland.nl.&nbsp;</p><p>Dit evenement is niet rolstoelvriendelijk.</p><p>Dit evenement is niet huisdiervriendelijk.</p>
LAST-MODIFIED:20260424T000149Z
LOCATION: De Hoeksteen | Kerkstraat 3 Den Hoorn
SEQUENCE:0
STATUS:CONFIRMED
SUMMARY:Kunstroute Den Hoorn
TRANSP:OPAQUE
END:VEVENT
END:VCALENDAR
