BEGIN:VCALENDAR
PRODID:-//PUBBLE//agenda//NL
VERSION:2.0
METHOD:PUBLISH
BEGIN:VEVENT
DTSTART:20260501T130000Z
DTEND:20260529T133000Z
DTSTAMP:20260424T131102Z
UID:0752e449-59db-413f-b759-5f0c65b00e9f
CREATED:20260424T131102Z
NAME:Rondleiding Wereldreis bij Kaap Skil texelagenda.nl
X-WR-CALNAME:Rondleiding Wereldreis bij Kaap Skil
X-ALT-DESC;FMTTYPE=text/html:<a href='/agenda/2026/5/1/rondleiding-wereldreis-bij-kaap-skil-335667'>/agenda/2026/5/1/rondleiding-wereldreis-bij-kaap-skil-335667</a> || <p>In de tentoonstelling Wereldreis bij Museum Kaap Skil valt zoveel te ontdekken! Met een gids zie je altijd nét wat meer, dus maak gebruik van de gelegenheid en sluit je aan bij de gratis rondleiding.</p>
DESCRIPTION:<a href='/agenda/2026/5/1/rondleiding-wereldreis-bij-kaap-skil-335667'>/agenda/2026/5/1/rondleiding-wereldreis-bij-kaap-skil-335667</a> || <p>In de tentoonstelling Wereldreis bij Museum Kaap Skil valt zoveel te ontdekken! Met een gids zie je altijd nét wat meer, dus maak gebruik van de gelegenheid en sluit je aan bij de gratis rondleiding.</p>
LAST-MODIFIED:20260424T131102Z
LOCATION: Museum Kaap Skil | Heemskerckstraat 9 Oudeschild
SEQUENCE:0
STATUS:CONFIRMED
SUMMARY:Rondleiding Wereldreis bij Kaap Skil
TRANSP:OPAQUE
END:VEVENT
END:VCALENDAR
