BEGIN:VCALENDAR
PRODID:-//PUBBLE//agenda//NL
VERSION:2.0
METHOD:PUBLISH
BEGIN:VEVENT
DTSTART:20260502T100000Z
DTEND:20260530T094400Z
DTSTAMP:20260424T134243Z
UID:2e348b41-1220-4a2b-b964-5164a2290c0c
CREATED:20260424T134243Z
NAME:Guided tour in English at Kaap Skil texelagenda.nl
X-WR-CALNAME:Guided tour in English at Kaap Skil
X-ALT-DESC;FMTTYPE=text/html:<a href='/agenda/2026/5/2/guided-tour-in-english-at-kaap-skil-335681'>/agenda/2026/5/2/guided-tour-in-english-at-kaap-skil-335681</a> || <p>There are dozens of shipwrecks off the coast of Texel. One of them – the Palmhoutwreck – turned out to be carrying a unique, exclusive cargo. The highlight of this 17th-century wreck is a beautiful silk dress, which was recovered almost intact. In the Palmhoutwreck exhibition, you can see an impressive selection of objects from this remarkable wreck. The guide will be happy to tell you more about it and point out things you might otherwise have missed. Join the English-language guided tour and discover everything about the Palmhoutwreck!</p>
DESCRIPTION:<a href='/agenda/2026/5/2/guided-tour-in-english-at-kaap-skil-335681'>/agenda/2026/5/2/guided-tour-in-english-at-kaap-skil-335681</a> || <p>There are dozens of shipwrecks off the coast of Texel. One of them – the Palmhoutwreck – turned out to be carrying a unique, exclusive cargo. The highlight of this 17th-century wreck is a beautiful silk dress, which was recovered almost intact. In the Palmhoutwreck exhibition, you can see an impressive selection of objects from this remarkable wreck. The guide will be happy to tell you more about it and point out things you might otherwise have missed. Join the English-language guided tour and discover everything about the Palmhoutwreck!</p>
LAST-MODIFIED:20260424T134243Z
LOCATION: Museum Kaap Skil | Heemskerckstraat 9 Oudeschild
SEQUENCE:0
STATUS:CONFIRMED
SUMMARY:Guided tour in English at Kaap Skil
TRANSP:OPAQUE
END:VEVENT
END:VCALENDAR
